Workbook
Name CatalogueSKUs: 'Corporate Gifting Catalogue'!$C$2:$C$125

Sheet Order Form
A1: CORPORATE GIFT ORDER FORM
A2: Select an SKU from the catalogue; description, MOQ and corporate price fill automatically. Enter quantity to calculate totals.
A4: Order Number | C4: Order Date | D4: =TODAY() -> 46293
A5: Customer / Company | C5: PO Number
A6: Contact Person | C6: Staff / Salesperson
A7: Phone Number | C7: Email Address
A8: Billing Address | C8: Delivery Address
A10: Order Status | B10: Draft | C10: Required Date
A11: SKU Code | B11: Description | C11: Qty | D11: Unit Price | E11: Line Total
B12: =IF($A12="","",_xlfn.XLOOKUP($A12,CatalogueSKUs,'Corporate Gifting Catalogue'!$E$2:$E$125,"SKU not found")) | D12: =IF($A12="","",_xlfn.XLOOKUP($A12,CatalogueSKUs,'Corporate Gifting Catalogue'!$K$2:$K$125,"")) | E12: =IF(OR($A12="",$C12=""),"",$C12*$D12)
B13: =IF($A13="","",_xlfn.XLOOKUP($A13,CatalogueSKUs,'Corporate Gifting Catalogue'!$E$2:$E$125,"SKU not found")) | D13: =IF($A13="","",_xlfn.XLOOKUP($A13,CatalogueSKUs,'Corporate Gifting Catalogue'!$K$2:$K$125,"")) | E13: =IF(OR($A13="",$C13=""),"",$C13*$D13)
B14: =IF($A14="","",_xlfn.XLOOKUP($A14,CatalogueSKUs,'Corporate Gifting Catalogue'!$E$2:$E$125,"SKU not found")) | D14: =IF($A14="","",_xlfn.XLOOKUP($A14,CatalogueSKUs,'Corporate Gifting Catalogue'!$K$2:$K$125,"")) | E14: =IF(OR($A14="",$C14=""),"",$C14*$D14)
B15: =IF($A15="","",_xlfn.XLOOKUP($A15,CatalogueSKUs,'Corporate Gifting Catalogue'!$E$2:$E$125,"SKU not found")) | D15: =IF($A15="","",_xlfn.XLOOKUP($A15,CatalogueSKUs,'Corporate Gifting Catalogue'!$K$2:$K$125,"")) | E15: =IF(OR($A15="",$C15=""),"",$C15*$D15)
B16: =IF($A16="","",_xlfn.XLOOKUP($A16,CatalogueSKUs,'Corporate Gifting Catalogue'!$E$2:$E$125,"SKU not found")) | D16: =IF($A16="","",_xlfn.XLOOKUP($A16,CatalogueSKUs,'Corporate Gifting Catalogue'!$K$2:$K$125,"")) | E16: =IF(OR($A16="",$C16=""),"",$C16*$D16)
B17: =IF($A17="","",_xlfn.XLOOKUP($A17,CatalogueSKUs,'Corporate Gifting Catalogue'!$E$2:$E$125,"SKU not found")) | D17: =IF($A17="","",_xlfn.XLOOKUP($A17,CatalogueSKUs,'Corporate Gifting Catalogue'!$K$2:$K$125,"")) | E17: =IF(OR($A17="",$C17=""),"",$C17*$D17)
B18: =IF($A18="","",_xlfn.XLOOKUP($A18,CatalogueSKUs,'Corporate Gifting Catalogue'!$E$2:$E$125,"SKU not found")) | D18: =IF($A18="","",_xlfn.XLOOKUP($A18,CatalogueSKUs,'Corporate Gifting Catalogue'!$K$2:$K$125,"")) | E18: =IF(OR($A18="",$C18=""),"",$C18*$D18)
B19: =IF($A19="","",_xlfn.XLOOKUP($A19,CatalogueSKUs,'Corporate Gifting Catalogue'!$E$2:$E$125,"SKU not found")) | D19: =IF($A19="","",_xlfn.XLOOKUP($A19,CatalogueSKUs,'Corporate Gifting Catalogue'!$K$2:$K$125,"")) | E19: =IF(OR($A19="",$C19=""),"",$C19*$D19)
B20: =IF($A20="","",_xlfn.XLOOKUP($A20,CatalogueSKUs,'Corporate Gifting Catalogue'!$E$2:$E$125,"SKU not found")) | D20: =IF($A20="","",_xlfn.XLOOKUP($A20,CatalogueSKUs,'Corporate Gifting Catalogue'!$K$2:$K$125,"")) | E20: =IF(OR($A20="",$C20=""),"",$C20*$D20)
B21: =IF($A21="","",_xlfn.XLOOKUP($A21,CatalogueSKUs,'Corporate Gifting Catalogue'!$E$2:$E$125,"SKU not found")) | D21: =IF($A21="","",_xlfn.XLOOKUP($A21,CatalogueSKUs,'Corporate Gifting Catalogue'!$K$2:$K$125,"")) | E21: =IF(OR($A21="",$C21=""),"",$C21*$D21)
B22: =IF($A22="","",_xlfn.XLOOKUP($A22,CatalogueSKUs,'Corporate Gifting Catalogue'!$E$2:$E$125,"SKU not found")) | D22: =IF($A22="","",_xlfn.XLOOKUP($A22,CatalogueSKUs,'Corporate Gifting Catalogue'!$K$2:$K$125,"")) | E22: =IF(OR($A22="",$C22=""),"",$C22*$D22)
B23: =IF($A23="","",_xlfn.XLOOKUP($A23,CatalogueSKUs,'Corporate Gifting Catalogue'!$E$2:$E$125,"SKU not found")) | D23: =IF($A23="","",_xlfn.XLOOKUP($A23,CatalogueSKUs,'Corporate Gifting Catalogue'!$K$2:$K$125,"")) | E23: =IF(OR($A23="",$C23=""),"",$C23*$D23)
... B31: =IF($A31="","",_xlfn.XLOOKUP($A31,CatalogueSKUs,'Corporate Gifting Catalogue'!$E$2:$E$125,"SKU not found")) | D31: =IF($A31="","",_xlfn.XLOOKUP($A31,CatalogueSKUs,'Corporate Gifting Catalogue'!$K$2:$K$125,"")) | E31: =IF(OR($A31="",$C31=""),"",$C31*$D31)
A33: SPECIAL INSTRUCTIONS / GIFT MESSAGE / DELIVERY NOTES | D33: Subtotal | E33: =SUM(E12:E31) -> 0
D34: Discount | E34: 0
D35: Tax Rate | E35: 0
D36: Tax Amount | E36: =MAX(0,(E33-E34)*E35) -> 0
D37: Delivery Fee | E37: 0
D38: GRAND TOTAL | E38: =MAX(0,E33-E34+E36+E37) -> 0
A40: ORDER TERMS
A41: Prices are based on the Corporate Gifting Catalogue and remain subject to stock availability. Lead times start after written order confirmation and any required payment or artwork approval. Please confirm delivery details and special packaging or gift-message requirements before submission.
A45: Customer Name | C45: Staff Name | E45: Approval Date

Sheet Corporate Gifting Catalogue
A1: Brand | B1: MALE/FEMALE | C1: SKU Code | D1: Barcode | E1: Product Name | F1: Pack Size | G1: Category | H1: MOQ (Minimum Order Quantity) | I1: RSP | J1: Corporate Price | K1: Corporate Price- ROUNDED UP | L1: Saving | M1: Lead Time (Days) | N1: Stock Availability | O1: Comments
A2: NARCISO RODRIGUEZ | B2: FEMALE | C2: NR0125 | D2: 3423470890129 | E2: FOR HER 100ML EDP SPRAY | F2: 100ML | G2: Fragrance | H2: 20 | I2: 3440 | J2: 1794.78 | K2: =CEILING(J2,10) -> 1800 | L2: =I2-K2 -> 1640 | M2: =J2-L2 -> 154.78 | N2: WHILE STOCK LAST
A3: NARCISO RODRIGUEZ | B3: FEMALE | C3: NR0135 | D3: 3423470890136 | E3: FOR HER 50ML EDP SPRAY | F3: 50ML | G3: Fragrance | H3: 20 | I3: 2570 | J3: 1340.8696 | K3: =CEILING(J3,10) -> 1350 | L3: =I3-J3 -> 1229.1304 | M3: 7 | N3: WHILE STOCK LAST
A4: NARCISO RODRIGUEZ | B4: FEMALE | C4: NR0150 | D4: 3423470890013 | E4: FOR HER EDT 50ML SPRAY | F4: 50ML | G4: Fragrance | H4: 20 | I4: 2150 | J4: 1121.7391 | K4: =CEILING(J4,10) -> 1130 | L4: =I4-J4 -> 1028.2609 | M4: 7 | N4: WHILE STOCK LAST
A5: NARCISO RODRIGUEZ | B5: FEMALE | C5: NR0250 | D5: 3423470890020 | E5: FOR HER EDT 100ML SPRAY | F5: 100ML | G5: Fragrance | H5: 20 | I5: 2930 | J5: 1528.6957 | K5: =CEILING(J5,10) -> 1530 | L5: =I5-J5 -> 1401.3043 | M5: 7 | N5: WHILE STOCK LAST
A6: NARCISO RODRIGUEZ | B6: FEMALE | C6: NR0352 | D6: 3423478840355 | E6: NARCISO EDP POUDREE 30ML | F6: 30ML | G6: Fragrance | H6: 20 | I6: 1770 | J6: 923.48 | K6: =CEILING(J6,10) -> 930 | L6: =I6-J6 -> 846.52 | M6: 7 | N6: WHILE STOCK LAST
A7: NARCISO RODRIGUEZ | B7: FEMALE | C7: NR0454 | D7: 3423478840454 | E7: NARCISO EDP POUDREE 50ML | F7: 50ML | G7: Fragrance | H7: 20 | I7: 2590 | J7: 1351.3 | K7: =CEILING(J7,10) -> 1360 | L7: =I7-J7 -> 1238.7 | M7: 7 | N7: WHILE STOCK LAST
A8: NARCISO RODRIGUEZ | B8: FEMALE | C8: NR0652 | D8: 3423478840652 | E8: NARCISO EDP POUDREE 90ML | F8: 90ML | G8: Fragrance | H8: 20 | I8: 3280 | J8: 1711.3043 | K8: =CEILING(J8,10) -> 1720 | L8: =I8-J8 -> 1568.6957 | M8: 7 | N8: WHILE STOCK LAST
A9: NARCISO RODRIGUEZ | B9: MALE | C9: NR5958 | D9: 3423478805958 | E9: FOR HIM BLEU NOIR 50ML | F9: 50ML | G9: Fragrance | H9: 20 | I9: 1890 | J9: 986.09 | K9: =CEILING(J9,10) -> 990 | L9: =I9-J9 -> 903.91 | M9: 7 | N9: WHILE STOCK LAST
A10: NARCISO RODRIGUEZ | B10: MALE | C10: NR6054 | D10: 3423478806054 | E10: FOR HIM BLEU NOIR 100ML | F10: 100ML | G10: Fragrance | H10: 20 | I10: 2610 | J10: 1361.74 | K10: =CEILING(J10,10) -> 1370 | L10: =I10-J10 -> 1248.26 | M10: 7 | N10: WHILE STOCK LAST
A11: NARCISO RODRIGUEZ | B11: MALE | C11: NR7655 | D11: 3423478807655 | E11: FOR HIM NOIR EDP 100ML | F11: 100ML | G11: Fragrance | H11: 20 | I11: 2860 | J11: 1492.1739 | K11: =CEILING(J11,10) -> 1500 | L11: =I11-J11 -> 1367.8261 | M11: 7 | N11: WHILE STOCK LAST
A12: ZADIG & VOLTAIRE | B12: FEMALE | C12: ZV1757 | D12: 3423474891757 | E12: ZADIG THIS IS HER! EDP 50ML | F12: 50ML | G12: Fragrance | H12: 20 | I12: 2030 | J12: 1059.13 | K12: =CEILING(J12,10) -> 1060 | L12: =I12-J12 -> 970.87 | M12: 7 | N12: WHILE STOCK LAST
A13: ZADIG & VOLTAIRE | B13: FEMALE | C13: ZV1856 | D13: 3423474891856 | E13: ZADIG THIS IS HER! EDP 100ML | F13: 100ML | G13: Fragrance | H13: 20 | I13: 2720 | J13: 1419.13 | K13: =CEILING(J13,10) -> 1420 | L13: =I13-J13 -> 1300.87 | M13: 7 | N13: WHILE STOCK LAST
A14: ZADIG & VOLTAIRE | B14: FEMALE | C14: ZV38318 | D14: 3423222138318 | E14: ZADIG EDP 50 ML+BODY LOTION EDP 50ML | F14: 50ML | G14: Fragrance | H14: 10 | I14: 2160 | J14: 1126.96 | K14: =CEILING(J14,10) -> 1130 | L14: =I14-J14 -> 1033.04 | M14: 7 | N14: WHILE STOCK LAST
... A21: ZADIG & VOLTAIRE | B21: MALE | C21: ZV06706 | D21: 3423222106706 | E21: ZADIG THIS IS REALLY HIM EDT 100ML | F21: 100ML | G21: Fragrance | H21: 20 | I21: 2020 | J21: 1053.91 | K21: =CEILING(J21,10) -> 1060 | L21: =I21-J21 -> 966.09 | M21: 7 | N21: WHILE STOCK LAST
A22: ISSEY MIYAKE | B22: MALE | C22: IM1135 | D22: 3423470311358 | E22: ISSEY MIYAKE L'EAU D'ISSEY POUR HOMME EDT 75ML M | F22: 75ML | G22: Fragrance | H22: 20 | I22: 1910 | J22: 996.52174 | K22: =CEILING(J22,10) -> 1000 | L22: =I22-J22 -> 913.47826 | M22: 7 | N22: WHILE STOCK LAST
A23: ISSEY MIYAKE | B23: MALE | C23: IM1136 | D23: 3423470311365 | E23: ISSEY MIYAKE L'EAU D'ISSEY POUR HOMME EDT 125ML M | F23: 125ML | G23: Fragrance | H23: 20 | I23: 2510 | J23: 1309.5652 | K23: =CEILING(J23,10) -> 1310 | L23: =I23-J23 -> 1200.4348 | M23: 7 | N23: WHILE STOCK LAST
A24: ISSEY MIYAKE | B24: FEMALE | C24: IM3015 | D24: 3423470300154 | E24: ISSEY MIYAKE L'EAU D'ISSEY EDT 50ML F | F24: 50ML | G24: Fragrance | H24: 20 | I24: 1940 | J24: 1012.1739 | K24: =CEILING(J24,10) -> 1020 | L24: =I24-J24 -> 927.82609 | M24: 7 | N24: WHILE STOCK LAST
A25: ISSEY MIYAKE | B25: FEMALE | C25: IM3016 | D25: 3423470300161 | E25: ISSEY MIYAKE L'EAU D'ISSEY EDT 100ML F | F25: 100ML | G25: Fragrance | H25: 20 | I25: 2700 | J25: 1408.6957 | K25: =CEILING(J25,10) -> 1410 | L25: =I25-J25 -> 1291.3043 | M25: 7 | N25: WHILE STOCK LAST
A26: ISSEY MIYAKE | B26: FEMALE | C26: IM32002 | D26: 3423222132002 | E26: ISSEY MIYAKE LUMIERE D'ISSEY EDP 30ML F | F26: 30ML | G26: Fragrance | H26: 20 | I26: 1750 | J26: 913.04348 | K26: =CEILING(J26,10) -> 920 | L26: =I26-J26 -> 836.95652 | M26: 7 | N26: WHILE STOCK LAST
A27: ISSEY MIYAKE | B27: FEMALE | C27: IM32019 | D27: 3423222132019 | E27: ISSEY MIYAKE LUMIERE D'ISSEY EDP 50ML F | F27: 50ML | G27: Fragrance | H27: 20 | I27: 2500 | J27: 1304.3478 | K27: =CEILING(J27,10) -> 1310 | L27: =I27-J27 -> 1195.6522 | M27: 7 | N27: WHILE STOCK LAST
A28: ISSEY MIYAKE | B28: FEMALE | C28: IM32033 | D28: 3423222132033 | E28: ISSEY MIYAKE LUMIERE D'ISSEY EDP 100ML F | F28: 100 ML | G28: Fragrance | H28: 20 | I28: 3380 | J28: 1763.4783 | K28: =CEILING(J28,10) -> 1770 | L28: =I28-J28 -> 1616.5217 | M28: 7 | N28: WHILE STOCK LAST
A29: ISSEY MIYAKE | B29: MALE | C29: IM19461 | D29: 3423222119461 | E29: ISSEY MIYAKE LE SEL EDP 50ML M | F29: 50ML | G29: Fragrance | H29: 20 | I29: 2090 | J29: 1090.4348 | K29: =CEILING(J29,10) -> 1100 | L29: =I29-J29 -> 999.56522 | M29: 7 | N29: WHILE STOCK LAST
A30: ISSEY MIYAKE | B30: MALE | C30: IM19485 | D30: 3423222119485 | E30: ISSEY MIYAKE LE SEL EDP 100ML M | F30: 100ML | G30: Fragrance | H30: 20 | I30: 2850 | J30: 1486.9565 | K30: =CEILING(J30,10) -> 1490 | L30: =I30-J30 -> 1363.0435 | M30: 7 | N30: WHILE STOCK LAST
A31: HERMES | B31: FEMALE | C31: EM302V0 | D31: 3346130018926 | E31: HERMES BARÉNIA EDPI 100ML | F31: 100ML | G31: Fragrance | H31: 10 | I31: 3515 | J31: 1833.91 | K31: =CEILING(J31,10) -> 1840 | L31: =I31-J31 -> 1681.09 | M31: 7 | N31: WHILE STOCK LAST
A32: HERMES | B32: FEMALE | C32: EM303V0 | D32: 3346130018933 | E32: HERMES BARÉNIA EDPI 60ML | F32: 60ML | G32: Fragrance | H32: 10 | I32: 2595 | J32: 1353.91 | K32: =CEILING(J32,10) -> 1360 | L32: =I32-J32 -> 1241.09 | M32: 7 | N32: WHILE STOCK LAST
A33: HERMES | B33: FEMALE | C33: EM304V0 | D33: 3346130018940 | E33: HERMES BARÉNIA EDPI 30ML | F33: 30ML | G33: Fragrance | H33: 10 | I33: 1805 | J33: 941.74 | K33: =CEILING(J33,10) -> 950 | L33: =I33-J33 -> 863.26 | M33: 7 | N33: WHILE STOCK LAST
A34: HERMES | B34: FEMALE | C34: EM026075 | D34: 3346130026075 | E34: HERMES BARÉNIA EDP 100ML+15ML+25G SET | F34: 100ML + 15ML + 25G | G34: Fragrance | H34: 10 | I34: 3355 | J34: 1750.43 | K34: =CEILING(J34,10) -> 1760 | L34: =I34-J34 -> 1604.57 | M34: 7 | N34: WHILE STOCK LAST
... A42: HERMES | B42: MALE | C42: EM022909 | D42: 3346130022909 | E42: HERMES TERRE D’HERMÈS PURE PARFUM SET 75ML +15ML + SG 40ML EDP | F42: 75ML + 15ML + 40ML | G42: Fragrance | H42: 10 | I42: 3250 | J42: 1695.65 | K42: =CEILING(J42,10) -> 1700 | L42: =I42-J42 -> 1554.35 | M42: 7 | N42: WHILE STOCK LAST
A43: COACH | B43: FEMALE | C43: CC023A01 | D43: 3386460156707 | E43: COACH GOLD 90ML PARFUM | F43: 90ml | G43: Fragrance | H43: 15 | I43: 2355 | J43: =I43/1.15*0.6 -> 1228.6957 | K43: =CEILING(J43,10) -> 1230 | L43: =SUM(I43-J43) -> 1126.3043 | M43: 7 | N43: WHILE STOCK LAST
A44: COACH | B44: FEMALE | C44: CC023A02 | D44: 3386460157308 | E44: COACH GOLD 50ML PARFUM | F44: 50ml | G44: Fragrance | H44: 15 | I44: 1845 | J44: =I44/1.15*0.6 -> 962.6087 | K44: =CEILING(J44,10) -> 970 | L44: =SUM(I44-J44) -> 882.3913 | M44: 7 | N44: WHILE STOCK LAST
A45: COACH | B45: FEMALE | C45: CC023A03 | D45: 3386460157315 | E45: COACH GOLD 30ML PARFUM | F45: 30ml | G45: Fragrance | H45: 15 | I45: 1230 | J45: =I45/1.15*0.6 -> 641.73913 | K45: =CEILING(J45,10) -> 650 | L45: =SUM(I45-J45) -> 588.26087 | M45: 7 | N45: WHILE STOCK LAST
A46: COACH | B46: MALE | C46: CC025A01 | D46: 3386460171083 | E46: COACH PURE PLATINUM 100ML PARFUM | F46: 100ml | G46: Fragrance | H46: 15 | I46: 2365 | J46: =I46/1.15*0.6 -> 1233.913 | K46: =CEILING(J46,10) -> 1240 | L46: =SUM(I46-J46) -> 1131.087 | M46: 7 | N46: WHILE STOCK LAST
A47: COACH | B47: MALE | C47: CC025A02 | D47: 3386460171090 | E47: COACH PURE PLATINUM 60ML PARFUM | F47: 60ml | G47: Fragrance | H47: 15 | I47: 1735 | J47: =I47/1.15*0.6 -> 905.21739 | K47: =CEILING(J47,10) -> 910 | L47: =SUM(I47-J47) -> 829.78261 | M47: 7 | N47: WHILE STOCK LAST
A48: ELIE SAAB | B48: FEMALE | C48: ES42879 | D48: 7640233342879 | E48: ELIE SAAB LE PARFUM EDP 30ML | G48: Fragrance | H48: 20 | I48: 1505 | J48: 785.22 | K48: =CEILING(J48,10) -> 790 | L48: =I48-J48 -> 719.78 | M48: 7 | N48: WHILE STOCK LAST
A49: ELIE SAAB | B49: FEMALE | C49: ES42886 | D49: 7640233342886 | E49: ELIE SAAB LE PARFUM EDP 50ML | G49: Fragrance | H49: 20 | I49: 2365 | J49: 1233.91 | K49: =CEILING(J49,10) -> 1240 | L49: =I49-J49 -> 1131.09 | M49: 7 | N49: WHILE STOCK LAST
A50: ELIE SAAB | B50: FEMALE | C50: ES42893 | D50: 7640233342893 | E50: ELIE SAAB LE PARFUM EDP 90ML | G50: Fragrance | H50: 20 | I50: 3055 | J50: 1593.91 | K50: =CEILING(J50,10) -> 1600 | L50: =I50-J50 -> 1461.09 | M50: 7 | N50: WHILE STOCK LAST
A51: ELIE SAAB | B51: FEMALE | C51: ES40103 | D51: 7640233340103 | E51: ELIE SAAB LE PARFUM IN WHITE EDP 30ML | G51: Fragrance | H51: 20 | I51: 1505 | J51: 785.22 | K51: =CEILING(J51,10) -> 790 | L51: =I51-J51 -> 719.78 | M51: 7 | N51: WHILE STOCK LAST
A52: ELIE SAAB | B52: FEMALE | C52: ES40110 | D52: 7640233340110 | E52: ELIE SAAB LE PARFUM IN WHITE EDP 50ML | G52: Fragrance | H52: 20 | I52: 2365 | J52: 1233.91 | K52: =CEILING(J52,10) -> 1240 | L52: =I52-J52 -> 1131.09 | M52: 7 | N52: WHILE STOCK LAST
A53: ELIE SAAB | B53: FEMALE | C53: ES40127 | D53: 7640233340127 | E53: ELIE SAAB LE PARFUM IN WHITE EDP 90ML | G53: Fragrance | H53: 20 | I53: 3055 | J53: 1593.91 | K53: =CEILING(J53,10) -> 1600 | L53: =I53-J53 -> 1461.09 | M53: 7 | N53: WHILE STOCK LAST
...
